BEGIN:VCALENDAR
VERSION:2.0
PRODID:-//Schuetzengesellschaft 1925 e.V. Nidda - ECPv6.15.20//NONSGML v1.0//EN
CALSCALE:GREGORIAN
METHOD:PUBLISH
X-ORIGINAL-URL:https://schuetzengesellschaft-nidda.de
X-WR-CALDESC:Veranstaltungen für Schuetzengesellschaft 1925 e.V. Nidda
REFRESH-INTERVAL;VALUE=DURATION:PT1H
X-Robots-Tag:noindex
X-PUBLISHED-TTL:PT1H
BEGIN:VTIMEZONE
TZID:Europe/Berlin
BEGIN:DAYLIGHT
TZOFFSETFROM:+0100
TZOFFSETTO:+0200
TZNAME:CEST
DTSTART:20240331T010000
END:DAYLIGHT
BEGIN:STANDARD
TZOFFSETFROM:+0200
TZOFFSETTO:+0100
TZNAME:CET
DTSTART:20241027T010000
END:STANDARD
BEGIN:DAYLIGHT
TZOFFSETFROM:+0100
TZOFFSETTO:+0200
TZNAME:CEST
DTSTART:20250330T010000
END:DAYLIGHT
BEGIN:STANDARD
TZOFFSETFROM:+0200
TZOFFSETTO:+0100
TZNAME:CET
DTSTART:20251026T010000
END:STANDARD
BEGIN:DAYLIGHT
TZOFFSETFROM:+0100
TZOFFSETTO:+0200
TZNAME:CEST
DTSTART:20260329T010000
END:DAYLIGHT
BEGIN:STANDARD
TZOFFSETFROM:+0200
TZOFFSETTO:+0100
TZNAME:CET
DTSTART:20261025T010000
END:STANDARD
BEGIN:DAYLIGHT
TZOFFSETFROM:+0100
TZOFFSETTO:+0200
TZNAME:CEST
DTSTART:20270328T010000
END:DAYLIGHT
BEGIN:STANDARD
TZOFFSETFROM:+0200
TZOFFSETTO:+0100
TZNAME:CET
DTSTART:20271031T010000
END:STANDARD
END:VTIMEZONE
BEGIN:VEVENT
DTSTART;VALUE=DATE:20260419
DTEND;VALUE=DATE:20260420
DTSTAMP:20260424T202620
CREATED:20260320T143504Z
LAST-MODIFIED:20260320T143623Z
UID:7481-1776556800-1776643199@schuetzengesellschaft-nidda.de
SUMMARY:Rundenwettkampf Sportpistole
DESCRIPTION:
URL:https://schuetzengesellschaft-nidda.de/veranstaltung/rundenwettkampf-sportpistole/
LOCATION:Schuetzengesellschaft 1925 e.V. Nidda\, Schützenweg 6\, Nidda\, Hessen\, 63667\, Deutschland
CATEGORIES:Meisterschaft,Wettkampf
ATTACH;FMTTYPE=image/jpeg:https://schuetzengesellschaft-nidda.de/wp-content/uploads/2022/04/bullets-4526264_1920.jpg
END:VEVENT
BEGIN:VEVENT
DTSTART;TZID=Europe/Berlin:20260404T140000
DTEND;TZID=Europe/Berlin:20260404T180000
DTSTAMP:20260424T202620
CREATED:20251212T073258Z
LAST-MODIFIED:20260203T085903Z
UID:7344-1775311200-1775325600@schuetzengesellschaft-nidda.de
SUMMARY:Osterschießen 2026
DESCRIPTION:[vc_row][vc_column]\n\n	\nWeitere Informationen zum Osterschießen 2026   [/vc_column][/vc_row]
URL:https://schuetzengesellschaft-nidda.de/veranstaltung/osterschiessen-2026/
LOCATION:Schuetzengesellschaft 1925 e.V. Nidda\, Schützenweg 6\, Nidda\, Hessen\, 63667\, Deutschland
CATEGORIES:Veranstaltung
ATTACH;FMTTYPE=image/png:https://schuetzengesellschaft-nidda.de/wp-content/uploads/2020/01/osterschiessen.png
ORGANIZER;CN="Schuetzengesellschaft 1925 e.V. Nidda":MAILTO:webmaster@sg-nidda.de
END:VEVENT
BEGIN:VEVENT
DTSTART;VALUE=DATE:20260328
DTEND;VALUE=DATE:20260329
DTSTAMP:20260424T202620
CREATED:20251002T111453Z
LAST-MODIFIED:20251214T140814Z
UID:7232-1774656000-1774742399@schuetzengesellschaft-nidda.de
SUMMARY:Waffensachkunde - Prüfung
DESCRIPTION:Das Schützenhaus bleibt an diesen Tagen geschlossen.
URL:https://schuetzengesellschaft-nidda.de/veranstaltung/waffensachkundelehrgang-5/
LOCATION:Schuetzengesellschaft 1925 e.V. Nidda\, Schützenweg 6\, Nidda\, Hessen\, 63667\, Deutschland
CATEGORIES:Geschlossen,Lehrgang
ATTACH;FMTTYPE=image/png:https://schuetzengesellschaft-nidda.de/wp-content/uploads/2024/11/wskhessen.png
ORGANIZER;CN="Schuetzengesellschaft 1925 e.V. Nidda":MAILTO:webmaster@sg-nidda.de
END:VEVENT
BEGIN:VEVENT
DTSTART;TZID=Europe/Berlin:20260322T080000
DTEND;TZID=Europe/Berlin:20260322T170000
DTSTAMP:20260424T202620
CREATED:20260311T072033Z
LAST-MODIFIED:20260311T072033Z
UID:7473-1774166400-1774198800@schuetzengesellschaft-nidda.de
SUMMARY:Bezirksmeisterschaften
DESCRIPTION:Bez
URL:https://schuetzengesellschaft-nidda.de/veranstaltung/bezirksmeisterschaften-2/
LOCATION:Schuetzengesellschaft 1925 e.V. Nidda\, Schützenweg 6\, Nidda\, Hessen\, 63667\, Deutschland
CATEGORIES:Meisterschaft
END:VEVENT
BEGIN:VEVENT
DTSTART;TZID=Europe/Berlin:20260320T190000
DTEND;TZID=Europe/Berlin:20260320T210000
DTSTAMP:20260424T202620
CREATED:20251212T072958Z
LAST-MODIFIED:20251212T072958Z
UID:7338-1774033200-1774040400@schuetzengesellschaft-nidda.de
SUMMARY:Jahreshauptversammlung 2026
DESCRIPTION:[vc_row][vc_column][vc_column_text css=””]Agenda folgt \n[/vc_column_text][/vc_column][/vc_row]
URL:https://schuetzengesellschaft-nidda.de/veranstaltung/jahreshauptversammlung-2026/
LOCATION:Schuetzengesellschaft 1925 e.V. Nidda\, Schützenweg 6\, Nidda\, Hessen\, 63667\, Deutschland
CATEGORIES:Information
ATTACH;FMTTYPE=image/png:https://schuetzengesellschaft-nidda.de/wp-content/uploads/2021/06/JHV_800.png
ORGANIZER;CN="Schuetzengesellschaft 1925 e.V. Nidda":MAILTO:webmaster@sg-nidda.de
END:VEVENT
BEGIN:VEVENT
DTSTART;VALUE=DATE:20260314
DTEND;VALUE=DATE:20260316
DTSTAMP:20260424T202620
CREATED:20251002T111359Z
LAST-MODIFIED:20251002T111359Z
UID:7230-1773446400-1773619199@schuetzengesellschaft-nidda.de
SUMMARY:Waffensachkundelehrgang
DESCRIPTION:Das Schützenhaus bleibt an diesen Tagen geschlossen.
URL:https://schuetzengesellschaft-nidda.de/veranstaltung/waffensachkundelehrgang-4/
LOCATION:Schuetzengesellschaft 1925 e.V. Nidda\, Schützenweg 6\, Nidda\, Hessen\, 63667\, Deutschland
CATEGORIES:Geschlossen,Lehrgang
ATTACH;FMTTYPE=image/png:https://schuetzengesellschaft-nidda.de/wp-content/uploads/2024/11/wskhessen.png
ORGANIZER;CN="Schuetzengesellschaft 1925 e.V. Nidda":MAILTO:webmaster@sg-nidda.de
END:VEVENT
BEGIN:VEVENT
DTSTART;TZID=Europe/Berlin:20251221T100000
DTEND;TZID=Europe/Berlin:20251221T130000
DTSTAMP:20260424T202620
CREATED:20241030T072735Z
LAST-MODIFIED:20241030T072735Z
UID:6816-1766311200-1766322000@schuetzengesellschaft-nidda.de
SUMMARY:Weihnachtsfrühstück
DESCRIPTION:Weitere Informationen folgen. (Alle Termine unter Vorbehalt von Änderungen)
URL:https://schuetzengesellschaft-nidda.de/veranstaltung/weihnachtsfruehstueck/
LOCATION:Schuetzengesellschaft 1925 e.V. Nidda\, Schützenweg 6\, Nidda\, Hessen\, 63667\, Deutschland
CATEGORIES:Veranstaltung
ATTACH;FMTTYPE=image/png:https://schuetzengesellschaft-nidda.de/wp-content/uploads/2021/01/snowman-sgnidda_1920.png
ORGANIZER;CN="Schuetzengesellschaft 1925 e.V. Nidda":MAILTO:webmaster@sg-nidda.de
END:VEVENT
BEGIN:VEVENT
DTSTART;VALUE=DATE:20251115
DTEND;VALUE=DATE:20251116
DTSTAMP:20260424T202620
CREATED:20250203T153323Z
LAST-MODIFIED:20250331T122459Z
UID:7011-1763164800-1763251199@schuetzengesellschaft-nidda.de
SUMMARY:Waffensachkundelehrgang
DESCRIPTION:Das Schützenhaus bleibt an diesen Tagen geschlossen.
URL:https://schuetzengesellschaft-nidda.de/veranstaltung/waffensachkundelehrgang-3/
LOCATION:Schuetzengesellschaft 1925 e.V. Nidda\, Schützenweg 6\, Nidda\, Hessen\, 63667\, Deutschland
CATEGORIES:Geschlossen,Lehrgang
ATTACH;FMTTYPE=image/png:https://schuetzengesellschaft-nidda.de/wp-content/uploads/2024/11/wskhessen.png
ORGANIZER;CN="Schuetzengesellschaft 1925 e.V. Nidda":MAILTO:webmaster@sg-nidda.de
END:VEVENT
BEGIN:VEVENT
DTSTART;VALUE=DATE:20251101
DTEND;VALUE=DATE:20251103
DTSTAMP:20260424T202620
CREATED:20250203T153208Z
LAST-MODIFIED:20250331T122420Z
UID:7009-1761955200-1762127999@schuetzengesellschaft-nidda.de
SUMMARY:Waffensachkundelehrgang
DESCRIPTION:Das Schützenhaus bleibt an diesen Tagen geschlossen.
URL:https://schuetzengesellschaft-nidda.de/veranstaltung/waffensachkundelehrgang-2/
LOCATION:Schuetzengesellschaft 1925 e.V. Nidda\, Schützenweg 6\, Nidda\, Hessen\, 63667\, Deutschland
CATEGORIES:Geschlossen,Lehrgang
ATTACH;FMTTYPE=image/png:https://schuetzengesellschaft-nidda.de/wp-content/uploads/2024/11/wskhessen.png
ORGANIZER;CN="Schuetzengesellschaft 1925 e.V. Nidda":MAILTO:webmaster@sg-nidda.de
END:VEVENT
BEGIN:VEVENT
DTSTART;TZID=Europe/Berlin:20250906T200000
DTEND;TZID=Europe/Berlin:20250906T235900
DTSTAMP:20260424T202620
CREATED:20241030T072732Z
LAST-MODIFIED:20241030T072732Z
UID:6813-1757188800-1757203140@schuetzengesellschaft-nidda.de
SUMMARY:Festkommers im Schützenhaus
DESCRIPTION:Weitere Informationen folgen. (Alle Termine unter Vorbehalt von Änderungen)
URL:https://schuetzengesellschaft-nidda.de/veranstaltung/festkommers-im-schuetzenhaus/
LOCATION:Schuetzengesellschaft 1925 e.V. Nidda\, Schützenweg 6\, Nidda\, Hessen\, 63667\, Deutschland
CATEGORIES:Veranstaltung
ATTACH;FMTTYPE=image/jpeg:https://schuetzengesellschaft-nidda.de/wp-content/uploads/2024/10/pexels-photo-225228-INTCRh.tmp_.jpg
ORGANIZER;CN="Schuetzengesellschaft 1925 e.V. Nidda":MAILTO:webmaster@sg-nidda.de
END:VEVENT
BEGIN:VEVENT
DTSTART;TZID=Europe/Berlin:20250830T100000
DTEND;TZID=Europe/Berlin:20250830T130000
DTSTAMP:20260424T202620
CREATED:20241030T072723Z
LAST-MODIFIED:20241030T072723Z
UID:6812-1756548000-1756558800@schuetzengesellschaft-nidda.de
SUMMARY:Arbeitseinsatz
DESCRIPTION:Weitere Informationen folgen. (Alle Termine unter Vorbehalt von Änderungen)
URL:https://schuetzengesellschaft-nidda.de/veranstaltung/arbeitseinsatz-6/
LOCATION:Schuetzengesellschaft 1925 e.V. Nidda\, Schützenweg 6\, Nidda\, Hessen\, 63667\, Deutschland
CATEGORIES:Arbeitseinsatz
ATTACH;FMTTYPE=image/png:https://schuetzengesellschaft-nidda.de/wp-content/uploads/2020/07/SGNidds-221027-1.png
ORGANIZER;CN="Schuetzengesellschaft 1925 e.V. Nidda":MAILTO:webmaster@sg-nidda.de
END:VEVENT
BEGIN:VEVENT
DTSTART;TZID=Europe/Berlin:20250622T110000
DTEND;TZID=Europe/Berlin:20250622T110000
DTSTAMP:20260424T202620
CREATED:20241030T072718Z
LAST-MODIFIED:20241030T072718Z
UID:6807-1750590000-1750590000@schuetzengesellschaft-nidda.de
SUMMARY:Helferfrühschoppen
DESCRIPTION:Weitere Informationen folgen. (Alle Termine unter Vorbehalt von Änderungen)
URL:https://schuetzengesellschaft-nidda.de/veranstaltung/helferfruehschoppen/
LOCATION:Schuetzengesellschaft 1925 e.V. Nidda\, Schützenweg 6\, Nidda\, Hessen\, 63667\, Deutschland
CATEGORIES:Veranstaltung
ATTACH;FMTTYPE=image/jpeg:https://schuetzengesellschaft-nidda.de/wp-content/uploads/2024/10/pexels-photo-225228-INTCRh.tmp_.jpg
ORGANIZER;CN="Schuetzengesellschaft 1925 e.V. Nidda":MAILTO:webmaster@sg-nidda.de
END:VEVENT
BEGIN:VEVENT
DTSTART;TZID=Europe/Berlin:20250529T100000
DTEND;TZID=Europe/Berlin:20250529T150000
DTSTAMP:20260424T202620
CREATED:20241030T072713Z
LAST-MODIFIED:20241030T072713Z
UID:6804-1748512800-1748530800@schuetzengesellschaft-nidda.de
SUMMARY:Himmelfahrtsschiessen
DESCRIPTION:Weitere Informationen folgen. (Alle Termine unter Vorbehalt von Änderungen)
URL:https://schuetzengesellschaft-nidda.de/veranstaltung/himmelfahrtsschiessen/
LOCATION:Schuetzengesellschaft 1925 e.V. Nidda\, Schützenweg 6\, Nidda\, Hessen\, 63667\, Deutschland
CATEGORIES:Veranstaltung
ATTACH;FMTTYPE=image/png:https://schuetzengesellschaft-nidda.de/wp-content/uploads/2020/01/himmelfahrtsschiessen.png
ORGANIZER;CN="Schuetzengesellschaft 1925 e.V. Nidda":MAILTO:webmaster@sg-nidda.de
END:VEVENT
BEGIN:VEVENT
DTSTART;TZID=Europe/Berlin:20250518T100000
DTEND;TZID=Europe/Berlin:20250518T150000
DTSTAMP:20260424T202620
CREATED:20241030T072711Z
LAST-MODIFIED:20250520T135352Z
UID:6803-1747562400-1747580400@schuetzengesellschaft-nidda.de
SUMMARY:Ausmarsch der Schuetzengesellschaft 1925 e.V. Nidda
DESCRIPTION:[vc_row][vc_column]\n\n	\nAlle weiteren Informationen zum Ausmarsch können hier herunter geladen werden.   [/vc_column][/vc_row]
URL:https://schuetzengesellschaft-nidda.de/veranstaltung/ausmarsch-der-schuetzengesellschaft-1925-e-v-nidda/
LOCATION:Schuetzengesellschaft 1925 e.V. Nidda\, Schützenweg 6\, Nidda\, Hessen\, 63667\, Deutschland
CATEGORIES:Veranstaltung
ORGANIZER;CN="Schuetzengesellschaft 1925 e.V. Nidda":MAILTO:webmaster@sg-nidda.de
END:VEVENT
BEGIN:VEVENT
DTSTART;TZID=Europe/Berlin:20250510T100000
DTEND;TZID=Europe/Berlin:20250510T130000
DTSTAMP:20260424T202620
CREATED:20241030T072710Z
LAST-MODIFIED:20241030T072710Z
UID:6802-1746871200-1746882000@schuetzengesellschaft-nidda.de
SUMMARY:Arbeitseinsatz
DESCRIPTION:Weitere Informationen folgen. (Alle Termine unter Vorbehalt von Änderungen)
URL:https://schuetzengesellschaft-nidda.de/veranstaltung/arbeitseinsatz-4/
LOCATION:Schuetzengesellschaft 1925 e.V. Nidda\, Schützenweg 6\, Nidda\, Hessen\, 63667\, Deutschland
CATEGORIES:Arbeitseinsatz
ATTACH;FMTTYPE=image/png:https://schuetzengesellschaft-nidda.de/wp-content/uploads/2020/07/SGNidds-221027-1.png
ORGANIZER;CN="Schuetzengesellschaft 1925 e.V. Nidda":MAILTO:webmaster@sg-nidda.de
END:VEVENT
END:VCALENDAR