BEGIN:VCALENDAR
VERSION:2.0
PRODID:-//Schuetzengesellschaft 1925 e.V. Nidda - ECPv6.15.20//NONSGML v1.0//EN
CALSCALE:GREGORIAN
METHOD:PUBLISH
X-WR-CALNAME:Schuetzengesellschaft 1925 e.V. Nidda
X-ORIGINAL-URL:https://schuetzengesellschaft-nidda.de
X-WR-CALDESC:Veranstaltungen für Schuetzengesellschaft 1925 e.V. Nidda
REFRESH-INTERVAL;VALUE=DURATION:PT1H
X-Robots-Tag:noindex
X-PUBLISHED-TTL:PT1H
BEGIN:VTIMEZONE
TZID:Europe/Berlin
BEGIN:DAYLIGHT
TZOFFSETFROM:+0100
TZOFFSETTO:+0200
TZNAME:CEST
DTSTART:20250330T010000
END:DAYLIGHT
BEGIN:STANDARD
TZOFFSETFROM:+0200
TZOFFSETTO:+0100
TZNAME:CET
DTSTART:20251026T010000
END:STANDARD
BEGIN:DAYLIGHT
TZOFFSETFROM:+0100
TZOFFSETTO:+0200
TZNAME:CEST
DTSTART:20260329T010000
END:DAYLIGHT
BEGIN:STANDARD
TZOFFSETFROM:+0200
TZOFFSETTO:+0100
TZNAME:CET
DTSTART:20261025T010000
END:STANDARD
BEGIN:DAYLIGHT
TZOFFSETFROM:+0100
TZOFFSETTO:+0200
TZNAME:CEST
DTSTART:20270328T010000
END:DAYLIGHT
BEGIN:STANDARD
TZOFFSETFROM:+0200
TZOFFSETTO:+0100
TZNAME:CET
DTSTART:20271031T010000
END:STANDARD
END:VTIMEZONE
BEGIN:VEVENT
DTSTART;VALUE=DATE:20260426
DTEND;VALUE=DATE:20260427
DTSTAMP:20260424T183012
CREATED:20260320T143557Z
LAST-MODIFIED:20260320T143557Z
UID:7483-1777161600-1777247999@schuetzengesellschaft-nidda.de
SUMMARY:Rundenwettkampf Sportpistole
DESCRIPTION:
URL:https://schuetzengesellschaft-nidda.de/veranstaltung/rundenwettkampf-sportpistole-2/
LOCATION:Schuetzengesellschaft 1925 e.V. Nidda\, Schützenweg 6\, Nidda\, Hessen\, 63667\, Deutschland
CATEGORIES:Meisterschaft,Wettkampf
ATTACH;FMTTYPE=image/jpeg:https://schuetzengesellschaft-nidda.de/wp-content/uploads/2022/04/bullets-4526264_1920.jpg
END:VEVENT
BEGIN:VEVENT
DTSTART;VALUE=DATE:20260503
DTEND;VALUE=DATE:20260504
DTSTAMP:20260424T183012
CREATED:20260320T143707Z
LAST-MODIFIED:20260320T143707Z
UID:7485-1777766400-1777852799@schuetzengesellschaft-nidda.de
SUMMARY:Rundenwettkampf Sportpistole
DESCRIPTION:
URL:https://schuetzengesellschaft-nidda.de/veranstaltung/rundenwettkampf-sportpistole-3/
LOCATION:Schuetzengesellschaft 1925 e.V. Nidda\, Schützenweg 6\, Nidda\, Hessen\, 63667\, Deutschland
CATEGORIES:Meisterschaft,Wettkampf
ATTACH;FMTTYPE=image/jpeg:https://schuetzengesellschaft-nidda.de/wp-content/uploads/2022/04/bullets-4526264_1920.jpg
END:VEVENT
BEGIN:VEVENT
DTSTART;TZID=Europe/Berlin:20260509T100000
DTEND;TZID=Europe/Berlin:20260509T170000
DTSTAMP:20260424T183012
CREATED:20260311T072307Z
LAST-MODIFIED:20260311T072307Z
UID:7475-1778320800-1778346000@schuetzengesellschaft-nidda.de
SUMMARY:Arbeitseinsatz
DESCRIPTION:
URL:https://schuetzengesellschaft-nidda.de/veranstaltung/arbeitseinsatz/
LOCATION:Schuetzengesellschaft 1925 e.V. Nidda\, Schützenweg 6\, Nidda\, Hessen\, 63667\, Deutschland
CATEGORIES:Arbeitseinsatz
ATTACH;FMTTYPE=image/png:https://schuetzengesellschaft-nidda.de/wp-content/uploads/2020/07/SGNidds-221027-1.png
ORGANIZER;CN="Schuetzengesellschaft 1925 e.V. Nidda":MAILTO:webmaster@sg-nidda.de
END:VEVENT
BEGIN:VEVENT
DTSTART;TZID=Europe/Berlin:20260514T100000
DTEND;TZID=Europe/Berlin:20260514T150000
DTSTAMP:20260424T183012
CREATED:20251212T073137Z
LAST-MODIFIED:20251212T073137Z
UID:7341-1778752800-1778770800@schuetzengesellschaft-nidda.de
SUMMARY:Himmelfahrtsschiessen 2026
DESCRIPTION:Weitere Informationen folgen. (Alle Termine unter Vorbehalt von Änderungen)
URL:https://schuetzengesellschaft-nidda.de/veranstaltung/himmelfahrtsschiessen-2026/
LOCATION:Schuetzengesellschaft 1925 e.V. Nidda\, Schützenweg 6\, Nidda\, Hessen\, 63667\, Deutschland
CATEGORIES:Veranstaltung
ATTACH;FMTTYPE=image/png:https://schuetzengesellschaft-nidda.de/wp-content/uploads/2020/01/himmelfahrtsschiessen.png
ORGANIZER;CN="Schuetzengesellschaft 1925 e.V. Nidda":MAILTO:webmaster@sg-nidda.de
END:VEVENT
BEGIN:VEVENT
DTSTART;TZID=Europe/Berlin:20260517T100000
DTEND;TZID=Europe/Berlin:20260517T150000
DTSTAMP:20260424T183012
CREATED:20251212T073521Z
LAST-MODIFIED:20251212T073521Z
UID:7346-1779012000-1779030000@schuetzengesellschaft-nidda.de
SUMMARY:Ausmarsch der Schuetzengesellschaft 1925 e.V. Nidda
DESCRIPTION:[vc_row][vc_column][/vc_column][/vc_row]
URL:https://schuetzengesellschaft-nidda.de/veranstaltung/ausmarsch-2026/
LOCATION:Schuetzengesellschaft 1925 e.V. Nidda\, Schützenweg 6\, Nidda\, Hessen\, 63667\, Deutschland
CATEGORIES:Veranstaltung
ATTACH;FMTTYPE=image/jpeg:https://schuetzengesellschaft-nidda.de/wp-content/uploads/2025/05/Vor-dem-Abmarsch-scaled.jpg
ORGANIZER;CN="Schuetzengesellschaft 1925 e.V. Nidda":MAILTO:webmaster@sg-nidda.de
END:VEVENT
BEGIN:VEVENT
DTSTART;TZID=Europe/Berlin:20260620T100000
DTEND;TZID=Europe/Berlin:20260620T170000
DTSTAMP:20260424T183012
CREATED:20260311T072422Z
LAST-MODIFIED:20260311T072422Z
UID:7477-1781949600-1781974800@schuetzengesellschaft-nidda.de
SUMMARY:Arbeitseinsatz
DESCRIPTION:Arbeits
URL:https://schuetzengesellschaft-nidda.de/veranstaltung/arbeitseinsatz-2/
LOCATION:Schuetzengesellschaft 1925 e.V. Nidda\, Schützenweg 6\, Nidda\, Hessen\, 63667\, Deutschland
CATEGORIES:Arbeitseinsatz
ATTACH;FMTTYPE=image/png:https://schuetzengesellschaft-nidda.de/wp-content/uploads/2020/07/SGNidds-221027-1.png
ORGANIZER;CN="Schuetzengesellschaft 1925 e.V. Nidda":MAILTO:webmaster@sg-nidda.de
END:VEVENT
BEGIN:VEVENT
DTSTART;VALUE=DATE:20260621
DTEND;VALUE=DATE:20260622
DTSTAMP:20260424T183012
CREATED:20260320T143745Z
LAST-MODIFIED:20260320T143745Z
UID:7487-1782000000-1782086399@schuetzengesellschaft-nidda.de
SUMMARY:Rundenwettkampf Sportpistole
DESCRIPTION:
URL:https://schuetzengesellschaft-nidda.de/veranstaltung/rundenwettkampf-sportpistole-4/
LOCATION:Schuetzengesellschaft 1925 e.V. Nidda\, Schützenweg 6\, Nidda\, Hessen\, 63667\, Deutschland
CATEGORIES:Meisterschaft,Wettkampf
ATTACH;FMTTYPE=image/jpeg:https://schuetzengesellschaft-nidda.de/wp-content/uploads/2022/04/bullets-4526264_1920.jpg
END:VEVENT
BEGIN:VEVENT
DTSTART;VALUE=DATE:20260711
DTEND;VALUE=DATE:20260712
DTSTAMP:20260424T183012
CREATED:20241030T072719Z
LAST-MODIFIED:20251212T073608Z
UID:6809-1783728000-1783814399@schuetzengesellschaft-nidda.de
SUMMARY:Ferienspiele
DESCRIPTION:Weitere Informationen folgen. (Alle Termine unter Vorbehalt von Änderungen)
URL:https://schuetzengesellschaft-nidda.de/veranstaltung/ferienspiele/
LOCATION:Schuetzengesellschaft 1925 e.V. Nidda\, Schützenweg 6\, Nidda\, Hessen\, 63667\, Deutschland
CATEGORIES:Veranstaltung
ATTACH;FMTTYPE=image/jpeg:https://schuetzengesellschaft-nidda.de/wp-content/uploads/2024/10/action-adventure-blur-386009-IuEqx5.tmp_-scaled.jpg
ORGANIZER;CN="Schuetzengesellschaft 1925 e.V. Nidda":MAILTO:webmaster@sg-nidda.de
END:VEVENT
BEGIN:VEVENT
DTSTART;TZID=Europe/Berlin:20260815T130000
DTEND;TZID=Europe/Berlin:20260815T180000
DTSTAMP:20260424T183012
CREATED:20241030T072721Z
LAST-MODIFIED:20251212T073651Z
UID:6811-1786798800-1786816800@schuetzengesellschaft-nidda.de
SUMMARY:Königsschiessen
DESCRIPTION:Weitere Informationen folgen. (Alle Termine unter Vorbehalt von Änderungen)
URL:https://schuetzengesellschaft-nidda.de/veranstaltung/koenigsschiessen-2/
LOCATION:Schuetzengesellschaft 1925 e.V. Nidda\, Schützenweg 6\, Nidda\, Hessen\, 63667\, Deutschland
CATEGORIES:Veranstaltung
ATTACH;FMTTYPE=image/png:https://schuetzengesellschaft-nidda.de/wp-content/uploads/2022/06/Koenigsschiessen2022.png
ORGANIZER;CN="Schuetzengesellschaft 1925 e.V. Nidda":MAILTO:webmaster@sg-nidda.de
END:VEVENT
BEGIN:VEVENT
DTSTART;VALUE=DATE:20260906
DTEND;VALUE=DATE:20260907
DTSTAMP:20260424T183012
CREATED:20241030T072733Z
LAST-MODIFIED:20251212T073922Z
UID:6814-1788652800-1788739199@schuetzengesellschaft-nidda.de
SUMMARY:Betriebs- und Firmenschiessen
DESCRIPTION:Weitere Informationen folgen. (Alle Termine unter Vorbehalt von Änderungen)
URL:https://schuetzengesellschaft-nidda.de/veranstaltung/betriebs-und-firmenschiessen/
LOCATION:Schuetzengesellschaft 1925 e.V. Nidda\, Schützenweg 6\, Nidda\, Hessen\, 63667\, Deutschland
CATEGORIES:Veranstaltung
ORGANIZER;CN="Schuetzengesellschaft 1925 e.V. Nidda":MAILTO:webmaster@sg-nidda.de
END:VEVENT
BEGIN:VEVENT
DTSTART;VALUE=DATE:20260913
DTEND;VALUE=DATE:20260914
DTSTAMP:20260424T183012
CREATED:20251212T073954Z
LAST-MODIFIED:20251212T073954Z
UID:7352-1789257600-1789343999@schuetzengesellschaft-nidda.de
SUMMARY:Betriebs- und Firmenschiessen
DESCRIPTION:Weitere Informationen folgen. (Alle Termine unter Vorbehalt von Änderungen)
URL:https://schuetzengesellschaft-nidda.de/veranstaltung/betriebs-und-firmenschiessen-2/
LOCATION:Schuetzengesellschaft 1925 e.V. Nidda\, Schützenweg 6\, Nidda\, Hessen\, 63667\, Deutschland
CATEGORIES:Veranstaltung
ORGANIZER;CN="Schuetzengesellschaft 1925 e.V. Nidda":MAILTO:webmaster@sg-nidda.de
END:VEVENT
BEGIN:VEVENT
DTSTART;VALUE=DATE:20260915
DTEND;VALUE=DATE:20260916
DTSTAMP:20260424T183012
CREATED:20251212T074032Z
LAST-MODIFIED:20251212T074032Z
UID:7354-1789430400-1789516799@schuetzengesellschaft-nidda.de
SUMMARY:Betriebs- und Firmenschiessen
DESCRIPTION:Weitere Informationen folgen. (Alle Termine unter Vorbehalt von Änderungen)
URL:https://schuetzengesellschaft-nidda.de/veranstaltung/betriebs-und-firmenschiessen-3/
LOCATION:Schuetzengesellschaft 1925 e.V. Nidda\, Schützenweg 6\, Nidda\, Hessen\, 63667\, Deutschland
CATEGORIES:Veranstaltung
ORGANIZER;CN="Schuetzengesellschaft 1925 e.V. Nidda":MAILTO:webmaster@sg-nidda.de
END:VEVENT
BEGIN:VEVENT
DTSTART;VALUE=DATE:20260926
DTEND;VALUE=DATE:20260928
DTSTAMP:20260424T183012
CREATED:20251213T105115Z
LAST-MODIFIED:20251213T105115Z
UID:7371-1790380800-1790553599@schuetzengesellschaft-nidda.de
SUMMARY:Waffensachkundelehrgang
DESCRIPTION:Das Schützenhaus bleibt an diesen Tagen geschlossen.
URL:https://schuetzengesellschaft-nidda.de/veranstaltung/waffensachkundelehrgang-6/
LOCATION:Schuetzengesellschaft 1925 e.V. Nidda\, Schützenweg 6\, Nidda\, Hessen\, 63667\, Deutschland
CATEGORIES:Geschlossen,Lehrgang
ATTACH;FMTTYPE=image/png:https://schuetzengesellschaft-nidda.de/wp-content/uploads/2024/11/wskhessen.png
ORGANIZER;CN="Schuetzengesellschaft 1925 e.V. Nidda":MAILTO:webmaster@sg-nidda.de
END:VEVENT
BEGIN:VEVENT
DTSTART;VALUE=DATE:20261010
DTEND;VALUE=DATE:20261011
DTSTAMP:20260424T183012
CREATED:20251213T105221Z
LAST-MODIFIED:20251214T140735Z
UID:7373-1791590400-1791676799@schuetzengesellschaft-nidda.de
SUMMARY:Waffensachkunde - Prüfung
DESCRIPTION:Das Schützenhaus bleibt an diesen Tagen geschlossen.
URL:https://schuetzengesellschaft-nidda.de/veranstaltung/waffensachkundelehrgang-7/
LOCATION:Schuetzengesellschaft 1925 e.V. Nidda\, Schützenweg 6\, Nidda\, Hessen\, 63667\, Deutschland
CATEGORIES:Geschlossen,Lehrgang
ATTACH;FMTTYPE=image/png:https://schuetzengesellschaft-nidda.de/wp-content/uploads/2024/11/wskhessen.png
ORGANIZER;CN="Schuetzengesellschaft 1925 e.V. Nidda":MAILTO:webmaster@sg-nidda.de
END:VEVENT
BEGIN:VEVENT
DTSTART;TZID=Europe/Berlin:20261024T130000
DTEND;TZID=Europe/Berlin:20261024T160000
DTSTAMP:20260424T183012
CREATED:20241030T072734Z
LAST-MODIFIED:20251212T073804Z
UID:6815-1792846800-1792857600@schuetzengesellschaft-nidda.de
SUMMARY:Herbstritterschiessen
DESCRIPTION:Weitere Informationen folgen. (Alle Termine unter Vorbehalt von Änderungen)
URL:https://schuetzengesellschaft-nidda.de/veranstaltung/herbstritterschiessen/
LOCATION:Schuetzengesellschaft 1925 e.V. Nidda\, Schützenweg 6\, Nidda\, Hessen\, 63667\, Deutschland
CATEGORIES:Veranstaltung
ATTACH;FMTTYPE=image/png:https://schuetzengesellschaft-nidda.de/wp-content/uploads/2020/01/herbstschießen.png
ORGANIZER;CN="Schuetzengesellschaft 1925 e.V. Nidda":MAILTO:webmaster@sg-nidda.de
END:VEVENT
BEGIN:VEVENT
DTSTART;TZID=Europe/Berlin:20261220T100000
DTEND;TZID=Europe/Berlin:20261220T130000
DTSTAMP:20260424T183012
CREATED:20251212T074130Z
LAST-MODIFIED:20251212T074130Z
UID:7356-1797760800-1797771600@schuetzengesellschaft-nidda.de
SUMMARY:Weihnachtsfrühstück
DESCRIPTION:Weitere Informationen folgen. (Alle Termine unter Vorbehalt von Änderungen)
URL:https://schuetzengesellschaft-nidda.de/veranstaltung/weihnachtsfruehstueck-2/
LOCATION:Schuetzengesellschaft 1925 e.V. Nidda\, Schützenweg 6\, Nidda\, Hessen\, 63667\, Deutschland
CATEGORIES:Veranstaltung
ATTACH;FMTTYPE=image/png:https://schuetzengesellschaft-nidda.de/wp-content/uploads/2021/01/snowman-sgnidda_1920.png
ORGANIZER;CN="Schuetzengesellschaft 1925 e.V. Nidda":MAILTO:webmaster@sg-nidda.de
END:VEVENT
END:VCALENDAR